BEGIN:VCALENDAR
VERSION:2.0
PRODID:-//Butler County Arts Council - ECPv6.15.20//NONSGML v1.0//EN
CALSCALE:GREGORIAN
METHOD:PUBLISH
X-WR-CALNAME:Butler County Arts Council
X-ORIGINAL-URL:https://butlercountyarts.com
X-WR-CALDESC:Events for Butler County Arts Council
REFRESH-INTERVAL;VALUE=DURATION:PT1H
X-Robots-Tag:noindex
X-PUBLISHED-TTL:PT1H
BEGIN:VTIMEZONE
TZID:America/Chicago
BEGIN:DAYLIGHT
TZOFFSETFROM:-0600
TZOFFSETTO:-0500
TZNAME:CDT
DTSTART:20180311T080000
END:DAYLIGHT
BEGIN:STANDARD
TZOFFSETFROM:-0500
TZOFFSETTO:-0600
TZNAME:CST
DTSTART:20181104T070000
END:STANDARD
BEGIN:DAYLIGHT
TZOFFSETFROM:-0600
TZOFFSETTO:-0500
TZNAME:CDT
DTSTART:20190310T080000
END:DAYLIGHT
BEGIN:STANDARD
TZOFFSETFROM:-0500
TZOFFSETTO:-0600
TZNAME:CST
DTSTART:20191103T070000
END:STANDARD
BEGIN:DAYLIGHT
TZOFFSETFROM:-0600
TZOFFSETTO:-0500
TZNAME:CDT
DTSTART:20200308T080000
END:DAYLIGHT
BEGIN:STANDARD
TZOFFSETFROM:-0500
TZOFFSETTO:-0600
TZNAME:CST
DTSTART:20201101T070000
END:STANDARD
BEGIN:DAYLIGHT
TZOFFSETFROM:-0600
TZOFFSETTO:-0500
TZNAME:CDT
DTSTART:20210314T080000
END:DAYLIGHT
BEGIN:STANDARD
TZOFFSETFROM:-0500
TZOFFSETTO:-0600
TZNAME:CST
DTSTART:20211107T070000
END:STANDARD
BEGIN:DAYLIGHT
TZOFFSETFROM:-0600
TZOFFSETTO:-0500
TZNAME:CDT
DTSTART:20220313T080000
END:DAYLIGHT
BEGIN:STANDARD
TZOFFSETFROM:-0500
TZOFFSETTO:-0600
TZNAME:CST
DTSTART:20221106T070000
END:STANDARD
BEGIN:DAYLIGHT
TZOFFSETFROM:-0600
TZOFFSETTO:-0500
TZNAME:CDT
DTSTART:20230312T080000
END:DAYLIGHT
BEGIN:STANDARD
TZOFFSETFROM:-0500
TZOFFSETTO:-0600
TZNAME:CST
DTSTART:20231105T070000
END:STANDARD
BEGIN:DAYLIGHT
TZOFFSETFROM:-0600
TZOFFSETTO:-0500
TZNAME:CDT
DTSTART:20240310T080000
END:DAYLIGHT
BEGIN:STANDARD
TZOFFSETFROM:-0500
TZOFFSETTO:-0600
TZNAME:CST
DTSTART:20241103T070000
END:STANDARD
BEGIN:DAYLIGHT
TZOFFSETFROM:-0600
TZOFFSETTO:-0500
TZNAME:CDT
DTSTART:20250309T080000
END:DAYLIGHT
BEGIN:STANDARD
TZOFFSETFROM:-0500
TZOFFSETTO:-0600
TZNAME:CST
DTSTART:20251102T070000
END:STANDARD
BEGIN:DAYLIGHT
TZOFFSETFROM:-0600
TZOFFSETTO:-0500
TZNAME:CDT
DTSTART:20260308T080000
END:DAYLIGHT
BEGIN:STANDARD
TZOFFSETFROM:-0500
TZOFFSETTO:-0600
TZNAME:CST
DTSTART:20261101T070000
END:STANDARD
END:VTIMEZONE
BEGIN:VEVENT
DTSTART;TZID=America/Chicago:20251207T150000
DTEND;TZID=America/Chicago:20251207T170000
DTSTAMP:20260423T162318
CREATED:20250926T152951Z
LAST-MODIFIED:20250926T152951Z
UID:1134-1765119600-1765126800@butlercountyarts.com
SUMMARY:2025 Songs of the Season Concert
DESCRIPTION:
URL:https://butlercountyarts.com/event/2025-songs-of-the-season-concert/
LOCATION:NE
ATTACH;FMTTYPE=image/jpeg:https://butlercountyarts.com/wordpress/wp-content/uploads/2025-BCAC-concert-st-lukes.jpg
END:VEVENT
BEGIN:VEVENT
DTSTART;TZID=America/Chicago:20250817T140000
DTEND;TZID=America/Chicago:20250817T170000
DTSTAMP:20260423T162318
CREATED:20250728T021514Z
LAST-MODIFIED:20250729T042141Z
UID:1111-1755439200-1755450000@butlercountyarts.com
SUMMARY:Czech Celebration
DESCRIPTION:
URL:https://butlercountyarts.com/event/czech-celebration-2025/
LOCATION:NE
END:VEVENT
BEGIN:VEVENT
DTSTART;TZID=America/Chicago:20250729T090000
DTEND;TZID=America/Chicago:20250731T160000
DTSTAMP:20260423T162318
CREATED:20250603T040036Z
LAST-MODIFIED:20250610T195432Z
UID:1083-1753779600-1753977600@butlercountyarts.com
SUMMARY:Art Day Camp 2025
DESCRIPTION:  \nEmail questions to anolan@bonecreek.org and know that safety protocols will be observed. \nView the Brochure \nDownload Permission Form
URL:https://butlercountyarts.com/event/art-day-camp-2025/
LOCATION:NE
END:VEVENT
BEGIN:VEVENT
DTSTART;TZID=America/Chicago:20250503T150000
DTEND;TZID=America/Chicago:20250503T170000
DTSTAMP:20260423T162318
CREATED:20250416T005637Z
LAST-MODIFIED:20250416T005637Z
UID:1073-1746284400-1746291600@butlercountyarts.com
SUMMARY:The Toasted Ponies at Bone Creek Museum of Agrarian Art
DESCRIPTION:
URL:https://butlercountyarts.com/event/the-toasted-ponies-at-bone-creek-museum-of-agrarian-art-2/
LOCATION:Bone Creek Museum of Agrarian Art\, 312 N 5th St\, David City\, NE\, 68632
END:VEVENT
BEGIN:VEVENT
DTSTART;TZID=America/Chicago:20250406T150000
DTEND;TZID=America/Chicago:20250406T180000
DTSTAMP:20260423T162318
CREATED:20250330T012104Z
LAST-MODIFIED:20250330T012104Z
UID:1066-1743951600-1743962400@butlercountyarts.com
SUMMARY:Artist Showcase
DESCRIPTION:
URL:https://butlercountyarts.com/event/artist-showcase-3/
LOCATION:NE
ATTACH;FMTTYPE=image/jpeg:https://butlercountyarts.com/wordpress/wp-content/uploads/BCAC-Artist-Showcase.jpg
END:VEVENT
BEGIN:VEVENT
DTSTART;TZID=America/Chicago:20241121T190000
DTEND;TZID=America/Chicago:20241121T203000
DTSTAMP:20260423T162318
CREATED:20241101T141921Z
LAST-MODIFIED:20241101T141939Z
UID:1057-1732215600-1732221000@butlercountyarts.com
SUMMARY:One Act Celebration
DESCRIPTION:
URL:https://butlercountyarts.com/event/one-act-celebration/
LOCATION:East Butler High School\, 212 S Madison St\, Brainard\, NE\, United States
ATTACH;FMTTYPE=image/jpeg:https://butlercountyarts.com/wordpress/wp-content/uploads/BCAC-one-act-2024.jpg
END:VEVENT
BEGIN:VEVENT
DTSTART;TZID=America/Chicago:20240908T130000
DTEND;TZID=America/Chicago:20240908T153000
DTSTAMP:20260423T162318
CREATED:20240903T171438Z
LAST-MODIFIED:20240903T171438Z
UID:1050-1725800400-1725809400@butlercountyarts.com
SUMMARY:Grandparents Day Celebration
DESCRIPTION:
URL:https://butlercountyarts.com/event/grandparents-day-celebration/
LOCATION:NE
END:VEVENT
BEGIN:VEVENT
DTSTART;TZID=America/Chicago:20240818T160000
DTEND;TZID=America/Chicago:20240818T190000
DTSTAMP:20260423T162318
CREATED:20240805T161215Z
LAST-MODIFIED:20240813T164351Z
UID:1023-1723996800-1724007600@butlercountyarts.com
SUMMARY:Czech Celebration
DESCRIPTION:
URL:https://butlercountyarts.com/event/czech-celebration/
LOCATION:NE
END:VEVENT
BEGIN:VEVENT
DTSTART;TZID=America/Chicago:20240729T100000
DTEND;TZID=America/Chicago:20240731T150000
DTSTAMP:20260423T162318
CREATED:20240514T153428Z
LAST-MODIFIED:20240514T153454Z
UID:1008-1722247200-1722438000@butlercountyarts.com
SUMMARY:Art Day Camp 2024
DESCRIPTION:July 29\, 30\, 31\n10 am–3 pm\nArt Room At:\n3420 MN Road\nAquinas High School (N end of bldg.) \n\n\n\n$20 per day or $10 per class\nRegistration fees includes materials \n\n\n\nArt day camp for ages 8 and older is held at Aquinas with two 2-hour sessions per day taught by experienced art teachers. Sarah Juranek will coordinate the activities with other teachers and assistants. $20/day\, ($10/session) includes materials. \n\n\n\nEmail questions to anolan@bonecreek.org and know that safety protocols will be observed. \nView the Brochure \nDownload Permission Form
URL:https://butlercountyarts.com/event/art-day-camp-2024/
LOCATION:NE
END:VEVENT
BEGIN:VEVENT
DTSTART;TZID=America/Chicago:20231203T150000
DTEND;TZID=America/Chicago:20231203T170000
DTSTAMP:20260423T162318
CREATED:20231120T225408Z
LAST-MODIFIED:20240315T030642Z
UID:904-1701615600-1701622800@butlercountyarts.com
SUMMARY:2023 Free Holiday Concert - A New and Glorious Morn
DESCRIPTION:The Christmas concert will be held Sunday\, December 3\, at 3PM.\nWhat a great opportunity to come together as a county and celebrate the season with music!\nDirector Michael Eldridge will again be assisted by accompanist Carol Fuxa. \n \n 
URL:https://butlercountyarts.com/event/2023-free-holiday-concert-a-new-and-glorious-morn/
LOCATION:St. Luke’s United Methodist Church\, 620 D St\, David City\, NE\, 68632
ATTACH;FMTTYPE=image/jpeg:https://butlercountyarts.com/wordpress/wp-content/uploads/406477503_857909465875150_7064417567791908838_n.jpg
END:VEVENT
BEGIN:VEVENT
DTSTART;TZID=America/Chicago:20230727T100000
DTEND;TZID=America/Chicago:20230731T150000
DTSTAMP:20260423T162318
CREATED:20230515T154113Z
LAST-MODIFIED:20231212T153155Z
UID:871-1690452000-1690815600@butlercountyarts.com
SUMMARY:Art Day Camp 2023
DESCRIPTION:July 27\, 28\, 31\n10 am–3 pm\nArt Room At:\n3420 MN Road\nAquinas High School (N end of bldg.) \n\n\n\n$20 per day or $10 per class\nRegistration fees includes materials \n\n\n\nArt day camp for ages 8 and older is held at Aquinas with two 2-hour sessions per day taught by experienced art teachers. Sarah Juranek will coordinate the activities with other teachers and assistants. $20/day\, ($10/session) includes materials. \n\n\n\nEmail questions to anolan@bonecreek.org and know that safety protocols will be observed. \nView the Brochure \nDownload Permission Form
URL:https://butlercountyarts.com/event/art-day-camp-2023/
LOCATION:NE
END:VEVENT
BEGIN:VEVENT
DTSTART;TZID=America/Chicago:20230402T150000
DTEND;TZID=America/Chicago:20230402T170000
DTSTAMP:20260423T162318
CREATED:20230329T133323Z
LAST-MODIFIED:20230329T133323Z
UID:863-1680447600-1680454800@butlercountyarts.com
SUMMARY:Artist Showcase
DESCRIPTION:Butler Country Arts Council Artist Showcase\n3pm Sunday\, April 2\, 2023 \nSt. Luke’s UM Church\n620 D Street\nDavid City\, NE \n 
URL:https://butlercountyarts.com/event/artist-showcase-2/
LOCATION:NE
ATTACH;FMTTYPE=image/jpeg:https://butlercountyarts.com/wordpress/wp-content/uploads/posterBCACfor2023.jpg
END:VEVENT
BEGIN:VEVENT
DTSTART;TZID=America/Chicago:20221204T150000
DTEND;TZID=America/Chicago:20221204T170000
DTSTAMP:20260423T162318
CREATED:20220507T022530Z
LAST-MODIFIED:20220511T182431Z
UID:794-1670166000-1670173200@butlercountyarts.com
SUMMARY:Christmas Cantata 2022
DESCRIPTION:The Christmas concert will be held Sunday\, December 4\, at 3PM.\nWhat a great opportunity to come together as a county and celebrate the season with music!\nDirector Michael Eldridge will again be assisted by accompanist Carol Fuxa.
URL:https://butlercountyarts.com/event/christmas-cantata-2022/
LOCATION:NE
ATTACH;FMTTYPE=image/jpeg:https://butlercountyarts.com/wordpress/wp-content/uploads/BCAC-Christmas-Cantana-2021.jpg
END:VEVENT
BEGIN:VEVENT
DTSTART;TZID=America/Chicago:20220821T160000
DTEND;TZID=America/Chicago:20220821T200000
DTSTAMP:20260423T162318
CREATED:20220803T154620Z
LAST-MODIFIED:20220803T155248Z
UID:825-1661097600-1661112000@butlercountyarts.com
SUMMARY:Czech Music Festival
DESCRIPTION:Location: David City auditorium basement 699 Kansas Street \n4:00pm \n 
URL:https://butlercountyarts.com/event/czech-music-festival/
LOCATION:NE
END:VEVENT
BEGIN:VEVENT
DTSTART;VALUE=DATE:20220727
DTEND;VALUE=DATE:20220730
DTSTAMP:20260423T162318
CREATED:20220428T220345Z
LAST-MODIFIED:20220803T154013Z
UID:775-1658880000-1659139199@butlercountyarts.com
SUMMARY:Art Day Camp 2022
DESCRIPTION:July 27\, 28\, 29\n10am – 3pm \nArt day camp for ages 8 and older is held at Aquinas with two 2-hour sessions per day taught by experienced art teachers. Sarah Juranek will coordinate the activities with other teachers and assistants. $20/day\, ($10/session) includes materials. \nEmail questions to anolan@bonecreek.org and know that safety protocols will be observed. \nView the Brochure \nDownload Permission Form
URL:https://butlercountyarts.com/event/art-day-camp-2022/
LOCATION:NE
END:VEVENT
BEGIN:VEVENT
DTSTART;TZID=America/Chicago:20220710T140000
DTEND;TZID=America/Chicago:20220710T160000
DTSTAMP:20260423T162318
CREATED:20220428T232432Z
LAST-MODIFIED:20220428T232602Z
UID:783-1657461600-1657468800@butlercountyarts.com
SUMMARY:The Toasted Ponies at Bone Creek Museum of Agrarian Art
DESCRIPTION:Visit Bone Creek Museum on July 10th\, 2022 for a live concert by the Toasted Ponies bluegrass band and a reception of the exhibition\, “Wendy Hall: Paintings and Pages.” This is the closing day of Wendy’s exhibition. We invite you to visit with Wendy and enjoy refreshments and great music. \n10″x10″\, o/c\, $1000.00.
URL:https://butlercountyarts.com/event/the-toasted-ponies-at-bone-creek-museum-of-agrarian-art/
LOCATION:Bone Creek Museum of Agrarian Art\, 312 N 5th St\, David City\, NE\, 68632
ATTACH;FMTTYPE=image/jpeg:https://butlercountyarts.com/wordpress/wp-content/uploads/toasted-ponies.jpg
END:VEVENT
BEGIN:VEVENT
DTSTART;TZID=America/Chicago:20220612T130000
DTEND;TZID=America/Chicago:20220612T150000
DTSTAMP:20260423T162318
CREATED:20220531T144937Z
LAST-MODIFIED:20220531T152213Z
UID:800-1655038800-1655046000@butlercountyarts.com
SUMMARY:"Keep It In The Family" Art Exhibition & Reception
DESCRIPTION:Sarah Juranek’s solo art exhibition “Keep It In The Family” celebrating her family and their Czech heritage will open with a reception June 12th from 1 pm to 3 pm at 569 E St David City\, NE. It will be on display through August 2022 with details to follow. \nSarah Juranek Art Exhibition Flyer \n  \n \n \n  \nPresented by the Butler County Arts Council thanks to the support of many. \n 
URL:https://butlercountyarts.com/event/keep-it-in-the-family-art-exhibition-reception/
LOCATION:NE
END:VEVENT
BEGIN:VEVENT
DTSTART;TZID=America/Chicago:20220401T090000
DTEND;TZID=America/Chicago:20220430T183000
DTSTAMP:20260423T162318
CREATED:20220224T162113Z
LAST-MODIFIED:20220224T162217Z
UID:763-1648803600-1651343400@butlercountyarts.com
SUMMARY:Youth Art Display
DESCRIPTION:
URL:https://butlercountyarts.com/event/youth-art-display/
LOCATION:David City Hruska Mermorial Public Library\, 399 N 5th St\, David City\, NE\, 68632
END:VEVENT
BEGIN:VEVENT
DTSTART;TZID=America/Chicago:20220306T150000
DTEND;TZID=America/Chicago:20220306T170000
DTSTAMP:20260423T162318
CREATED:20220224T160035Z
LAST-MODIFIED:20220224T160035Z
UID:758-1646578800-1646586000@butlercountyarts.com
SUMMARY:Butler County Arts Council Showcase
DESCRIPTION:
URL:https://butlercountyarts.com/event/butler-county-arts-council-showcase/
LOCATION:St. Luke’s United Methodist Church\, 620 D St\, David City\, NE\, 68632
END:VEVENT
BEGIN:VEVENT
DTSTART;TZID=America/Chicago:20211205T150000
DTEND;TZID=America/Chicago:20211205T170000
DTSTAMP:20260423T162318
CREATED:20220507T022242Z
LAST-MODIFIED:20220507T022242Z
UID:791-1638716400-1638723600@butlercountyarts.com
SUMMARY:Christmas Cantata 2021
DESCRIPTION:The Christmas concert will be held Sunday\, December 5\, at 3PM.\nWhat a great opportunity to come together as a county and celebrate the season with music!\nDirector Michael Eldridge will again be assisted by accompanist Carol Fuxa.
URL:https://butlercountyarts.com/event/christmas-cantata-2021/
LOCATION:NE
ATTACH;FMTTYPE=image/jpeg:https://butlercountyarts.com/wordpress/wp-content/uploads/BCAC-Christmas-Cantana-2021.jpg
END:VEVENT
BEGIN:VEVENT
DTSTART;VALUE=DATE:20210728
DTEND;VALUE=DATE:20210731
DTSTAMP:20260423T162318
CREATED:20210324T203417Z
LAST-MODIFIED:20210525T205254Z
UID:692-1627430400-1627689599@butlercountyarts.com
SUMMARY:Art Day Camp
DESCRIPTION:July 28-30 an art day camp for ages 8 and older is held at Aquinas with six 3 hour sessions taught by experienced art teachers. Sarah Juranek will coordinate the activities with other teachers and assistants. Details will be provided and applications in the months to come. \nEmail questions to anolan@bonecreek.org and know that safety protocols will be observed. \nView the Brochure \nDownload Permission Form
URL:https://butlercountyarts.com/event/art-day-camp-10/
LOCATION:NE
END:VEVENT
BEGIN:VEVENT
DTSTART;VALUE=DATE:20210401
DTEND;VALUE=DATE:20210501
DTSTAMP:20260423T162318
CREATED:20210324T203043Z
LAST-MODIFIED:20210324T203043Z
UID:689-1617235200-1619827199@butlercountyarts.com
SUMMARY:Annual Exhibition of High School Art
DESCRIPTION:The Butler County Arts Council has an annual exhibition of outstanding high school art of the county on view in the month of April at the Hruska Memorial Public Library in David City.  Items can be of any media and are selected by the Butler County high school art teachers.
URL:https://butlercountyarts.com/event/annual-exhibition-of-high-school-art/
LOCATION:NE
END:VEVENT
BEGIN:VEVENT
DTSTART;TZID=America/Chicago:20200926T180000
DTEND;TZID=America/Chicago:20200926T193000
DTSTAMP:20260423T162318
CREATED:20201208T021301Z
LAST-MODIFIED:20201208T021301Z
UID:640-1601143200-1601148600@butlercountyarts.com
SUMMARY:The Shucks Brothers live at Bone Creek Museum
DESCRIPTION:
URL:https://butlercountyarts.com/event/the-shucks-brothers-live-at-bone-creek-museum/
LOCATION:NE
END:VEVENT
BEGIN:VEVENT
DTSTART;TZID=America/Chicago:20200913T180000
DTEND;TZID=America/Chicago:20200913T193000
DTSTAMP:20260423T162318
CREATED:20201208T021336Z
LAST-MODIFIED:20201208T021336Z
UID:642-1600020000-1600025400@butlercountyarts.com
SUMMARY:The Lightning Bugs Concert at Bone Creek Museum
DESCRIPTION:
URL:https://butlercountyarts.com/event/the-lightning-bugs-concert-at-bone-creek-museum/
LOCATION:NE
END:VEVENT
BEGIN:VEVENT
DTSTART;VALUE=DATE:20200405
DTEND;VALUE=DATE:20200406
DTSTAMP:20260423T162318
CREATED:20190314T162950Z
LAST-MODIFIED:20201203T005454Z
UID:361-1586044800-1586131140@butlercountyarts.com
SUMMARY:Toasted Ponies
DESCRIPTION:
URL:https://butlercountyarts.com/event/toasted-ponies-2/
LOCATION:United States
END:VEVENT
BEGIN:VEVENT
DTSTART;VALUE=DATE:20200401
DTEND;VALUE=DATE:20200501
DTSTAMP:20260423T162318
CREATED:20190314T163241Z
LAST-MODIFIED:20201203T005454Z
UID:366-1585699200-1588291140@butlercountyarts.com
SUMMARY:High School Art Display
DESCRIPTION:Art will be displayed from Aquinas High School\, David City High School\, and East Butler High School at the Library in David City.
URL:https://butlercountyarts.com/event/high-school-art-display/
LOCATION:United States
END:VEVENT
BEGIN:VEVENT
DTSTART;TZID=America/Chicago:20200223T150000
DTEND;TZID=America/Chicago:20200223T170000
DTSTAMP:20260423T162318
CREATED:20190314T163039Z
LAST-MODIFIED:20201203T005454Z
UID:364-1582470000-1582477200@butlercountyarts.com
SUMMARY:Regional Artist Showcase
DESCRIPTION:
URL:https://butlercountyarts.com/event/regional-artist-showcase-3/
LOCATION:St. Luke’s United Methodist Church\, 620 D St.\, David City\, NE\, 68632\, United States
END:VEVENT
BEGIN:VEVENT
DTSTART;TZID=America/Chicago:20191208T150000
DTEND;TZID=America/Chicago:20191208T163000
DTSTAMP:20260423T162318
CREATED:20190314T162838Z
LAST-MODIFIED:20201203T005454Z
UID:359-1575817200-1575822600@butlercountyarts.com
SUMMARY:Christmas In Butler County Concert
DESCRIPTION:This annual favorite will feature a 30 member community choir under the direction of Mr. Michael Eldridge and accompanied by Carol Fuxa.
URL:https://butlercountyarts.com/event/christmas-in-butler-county-concert/
LOCATION:St. Luke’s United Methodist Church\, 620 D St.\, David City\, NE\, 68632\, United States
END:VEVENT
BEGIN:VEVENT
DTSTART;TZID=America/Chicago:20191208T123000
DTEND;TZID=America/Chicago:20191208T143000
DTSTAMP:20260423T162318
CREATED:20190314T165030Z
LAST-MODIFIED:20201203T005454Z
UID:395-1575808200-1575815400@butlercountyarts.com
SUMMARY:Community Choir Rehearsal w/ Musicians
DESCRIPTION:
URL:https://butlercountyarts.com/event/community-choir-rehearsal-w-musicians/
LOCATION:St. Luke’s United Methodist Church\, 620 D St.\, David City\, NE\, 68632\, United States
END:VEVENT
BEGIN:VEVENT
DTSTART;TZID=America/Chicago:20191207T100000
DTEND;TZID=America/Chicago:20191207T130000
DTSTAMP:20260423T162318
CREATED:20190314T164942Z
LAST-MODIFIED:20201203T005454Z
UID:392-1575712800-1575723600@butlercountyarts.com
SUMMARY:Community Choir Rehearsal - Dress Rehearsal
DESCRIPTION:
URL:https://butlercountyarts.com/event/community-choir-rehearsal-dress-rehearsal/
LOCATION:St. Luke’s United Methodist Church\, 620 D St.\, David City\, NE\, 68632\, United States
END:VEVENT
END:VCALENDAR