BEGIN:VCALENDAR
VERSION:2.0
PRODID:-//Butler County Arts Council - ECPv6.15.20//NONSGML v1.0//EN
CALSCALE:GREGORIAN
METHOD:PUBLISH
X-WR-CALNAME:Butler County Arts Council
X-ORIGINAL-URL:https://butlercountyarts.com
X-WR-CALDESC:Events for Butler County Arts Council
REFRESH-INTERVAL;VALUE=DURATION:PT1H
X-Robots-Tag:noindex
X-PUBLISHED-TTL:PT1H
BEGIN:VTIMEZONE
TZID:America/Chicago
BEGIN:DAYLIGHT
TZOFFSETFROM:-0600
TZOFFSETTO:-0500
TZNAME:CDT
DTSTART:20170312T080000
END:DAYLIGHT
BEGIN:STANDARD
TZOFFSETFROM:-0500
TZOFFSETTO:-0600
TZNAME:CST
DTSTART:20171105T070000
END:STANDARD
BEGIN:DAYLIGHT
TZOFFSETFROM:-0600
TZOFFSETTO:-0500
TZNAME:CDT
DTSTART:20180311T080000
END:DAYLIGHT
BEGIN:STANDARD
TZOFFSETFROM:-0500
TZOFFSETTO:-0600
TZNAME:CST
DTSTART:20181104T070000
END:STANDARD
BEGIN:DAYLIGHT
TZOFFSETFROM:-0600
TZOFFSETTO:-0500
TZNAME:CDT
DTSTART:20190310T080000
END:DAYLIGHT
BEGIN:STANDARD
TZOFFSETFROM:-0500
TZOFFSETTO:-0600
TZNAME:CST
DTSTART:20191103T070000
END:STANDARD
BEGIN:DAYLIGHT
TZOFFSETFROM:-0600
TZOFFSETTO:-0500
TZNAME:CDT
DTSTART:20200308T080000
END:DAYLIGHT
BEGIN:STANDARD
TZOFFSETFROM:-0500
TZOFFSETTO:-0600
TZNAME:CST
DTSTART:20201101T070000
END:STANDARD
END:VTIMEZONE
BEGIN:VEVENT
DTSTART;TZID=America/Chicago:20191103T183000
DTEND;TZID=America/Chicago:20191103T200000
DTSTAMP:20260423T163850
CREATED:20190314T164524Z
LAST-MODIFIED:20201203T005454Z
UID:380-1572805800-1572811200@butlercountyarts.com
SUMMARY:Community Choir Rehearsal
DESCRIPTION:
URL:https://butlercountyarts.com/event/community-choir-rehearsal-13/
LOCATION:United States
END:VEVENT
BEGIN:VEVENT
DTSTART;TZID=America/Chicago:20191027T183000
DTEND;TZID=America/Chicago:20191027T200000
DTSTAMP:20260423T163850
CREATED:20190314T164357Z
LAST-MODIFIED:20201203T005454Z
UID:378-1572201000-1572206400@butlercountyarts.com
SUMMARY:Community Choir Rehearsal
DESCRIPTION:
URL:https://butlercountyarts.com/event/community-choir-rehearsal-12/
LOCATION:Little White Church\, 7th & E Streets\, David City\, NE\, 68632\, United States
END:VEVENT
BEGIN:VEVENT
DTSTART;TZID=America/Chicago:20191020T183000
DTEND;TZID=America/Chicago:20191020T200000
DTSTAMP:20260423T163850
CREATED:20190314T164319Z
LAST-MODIFIED:20201203T005454Z
UID:376-1571596200-1571601600@butlercountyarts.com
SUMMARY:Community Choir Rehearsal
DESCRIPTION:
URL:https://butlercountyarts.com/event/community-choir-rehearsal-11/
LOCATION:Little White Church\, 7th & E Streets\, David City\, NE\, 68632\, United States
END:VEVENT
BEGIN:VEVENT
DTSTART;TZID=America/Chicago:20191013T183000
DTEND;TZID=America/Chicago:20191013T200000
DTSTAMP:20260423T163850
CREATED:20190314T164144Z
LAST-MODIFIED:20201203T005454Z
UID:374-1570991400-1570996800@butlercountyarts.com
SUMMARY:Community Choir Rehearsal
DESCRIPTION:
URL:https://butlercountyarts.com/event/community-choir-rehearsal-10/
LOCATION:Little White Church\, 7th & E Streets\, David City\, NE\, 68632\, United States
END:VEVENT
BEGIN:VEVENT
DTSTART;VALUE=DATE:20191007
DTEND;VALUE=DATE:20191012
DTSTAMP:20260423T163850
CREATED:20190314T162518Z
LAST-MODIFIED:20201203T005454Z
UID:354-1570406400-1570838340@butlercountyarts.com
SUMMARY:Linda Garcia-Perez - Hispanic Culture expressed through Art
DESCRIPTION:
URL:https://butlercountyarts.com/event/linda-garcia-perez-hispanic-culture-expressed-through-art/
LOCATION:Bone Creek Museum of Agrarian Art\, United States
END:VEVENT
BEGIN:VEVENT
DTSTART;TZID=America/Chicago:20191006T183000
DTEND;TZID=America/Chicago:20191006T200000
DTSTAMP:20260423T163850
CREATED:20190314T164025Z
LAST-MODIFIED:20201203T005454Z
UID:372-1570386600-1570392000@butlercountyarts.com
SUMMARY:Community Choir Rehearsal
DESCRIPTION:
URL:https://butlercountyarts.com/event/community-choir-rehearsal-9/
LOCATION:Little White Church\, 7th & E Streets\, David City\, NE\, 68632\, United States
END:VEVENT
BEGIN:VEVENT
DTSTART;VALUE=DATE:20191006
DTEND;VALUE=DATE:20191007
DTSTAMP:20260423T163850
CREATED:20190314T162324Z
LAST-MODIFIED:20201203T005454Z
UID:351-1570320000-1570406340@butlercountyarts.com
SUMMARY:The Schucks Brothers
DESCRIPTION:Jim Pipher (Bass\, vocals)\, Steven Hanson (Guitar\, vocals)\, Dave Miller (Mandolin\, vocals)
URL:https://butlercountyarts.com/event/the-schucks-brothers/
LOCATION:United States
END:VEVENT
BEGIN:VEVENT
DTSTART;TZID=America/Chicago:20190929T183000
DTEND;TZID=America/Chicago:20190929T200000
DTSTAMP:20260423T163850
CREATED:20190314T163724Z
LAST-MODIFIED:20201203T005455Z
UID:370-1569781800-1569787200@butlercountyarts.com
SUMMARY:Community Choir Rehearsals Begin
DESCRIPTION:
URL:https://butlercountyarts.com/event/community-choir-rehearsals-begin-2/
LOCATION:Little White Church\, 7th & E Streets\, David City\, NE\, 68632\, United States
END:VEVENT
BEGIN:VEVENT
DTSTART;TZID=America/Chicago:20190818T160000
DTEND;TZID=America/Chicago:20190818T200000
DTSTAMP:20260423T163850
CREATED:20190314T162134Z
LAST-MODIFIED:20201203T005455Z
UID:349-1566144000-1566158400@butlercountyarts.com
SUMMARY:Czech Music Festival w/ Bill Andel & More
DESCRIPTION:
URL:https://butlercountyarts.com/event/czech-music-festival-w-bill-andel-more/
LOCATION:David City Auditorium\, 699 Kansas Street\, David City\, NE\, 68632\, United States
ATTACH;FMTTYPE=image/jpeg:https://butlercountyarts.com/wordpress/wp-content/uploads/0.jpg
END:VEVENT
BEGIN:VEVENT
DTSTART;TZID=America/Chicago:20190731T090000
DTEND;TZID=America/Chicago:20190731T160000
DTSTAMP:20260423T163850
CREATED:20190314T162012Z
LAST-MODIFIED:20201203T005630Z
UID:346-1564563600-1564588800@butlercountyarts.com
SUMMARY:Art Day Camp
DESCRIPTION:
URL:https://butlercountyarts.com/event/art-day-camp-9/
LOCATION:United States
END:VEVENT
BEGIN:VEVENT
DTSTART;TZID=America/Chicago:20190730T090000
DTEND;TZID=America/Chicago:20190730T160000
DTSTAMP:20260423T163850
CREATED:20190314T161940Z
LAST-MODIFIED:20201203T005631Z
UID:343-1564477200-1564502400@butlercountyarts.com
SUMMARY:Art Day Camp
DESCRIPTION:
URL:https://butlercountyarts.com/event/art-day-camp-8/
LOCATION:United States
END:VEVENT
BEGIN:VEVENT
DTSTART;TZID=America/Chicago:20190729T090000
DTEND;TZID=America/Chicago:20190729T160000
DTSTAMP:20260423T163850
CREATED:20190314T161905Z
LAST-MODIFIED:20201203T005631Z
UID:340-1564390800-1564416000@butlercountyarts.com
SUMMARY:Art Day Camp
DESCRIPTION:
URL:https://butlercountyarts.com/event/art-day-camp-7/
LOCATION:United States
END:VEVENT
BEGIN:VEVENT
DTSTART;VALUE=DATE:20190618
DTEND;VALUE=DATE:20190622
DTSTAMP:20260423T163850
CREATED:20190314T161756Z
LAST-MODIFIED:20201203T005631Z
UID:337-1560816000-1561161540@butlercountyarts.com
SUMMARY:Butler County Fair - Spin Art Booth
DESCRIPTION:
URL:https://butlercountyarts.com/event/butler-county-fair-spin-art-booth/
LOCATION:Butler County Fairgrounds\, United States
END:VEVENT
BEGIN:VEVENT
DTSTART;TZID=America/Chicago:20190524T101500
DTEND;TZID=America/Chicago:20190524T183000
DTSTAMP:20260423T163850
CREATED:20190523T193156Z
LAST-MODIFIED:20201203T005631Z
UID:398-1558692900-1558722600@butlercountyarts.com
SUMMARY:Youth Theater
DESCRIPTION:
URL:https://butlercountyarts.com/event/youth-theater-3/
LOCATION:David City High School\, 750 D Street\, David City\, NE\, 68632\, United States
END:VEVENT
BEGIN:VEVENT
DTSTART;TZID=America/Chicago:20190414T150000
DTEND;TZID=America/Chicago:20190414T170000
DTSTAMP:20260423T163850
CREATED:20180716T152236Z
LAST-MODIFIED:20201203T005631Z
UID:288-1555254000-1555261200@butlercountyarts.com
SUMMARY:Regional Artist Showcase
DESCRIPTION:Regional Artist Showcase – Sunday\, April 14\, 2019\, 3:00pm at St. Luke’s UM Church  
URL:https://butlercountyarts.com/event/regional-artist-showcase-2/
LOCATION:St. Luke’s United Methodist Church\, 620 D St.\, David City\, NE\, 68632\, United States
END:VEVENT
BEGIN:VEVENT
DTSTART;VALUE=DATE:20190331
DTEND;VALUE=DATE:20190401
DTSTAMP:20260423T163850
CREATED:20180716T152118Z
LAST-MODIFIED:20201203T005631Z
UID:285-1553990400-1554076740@butlercountyarts.com
SUMMARY:The Lightning Bugs
DESCRIPTION:The Lightning Bugs Sunday\, March 31\, 2019 a 45-minute performance at each of 3 venues:  \n1:30 pm at David place\,  \n2:45 pm at St. Joseph’s Villa  \n4 pm at the Bone Creek Museum of Agrarian Art\, 575 E Street.
URL:https://butlercountyarts.com/event/the-lightning-bugs/
LOCATION:United States
END:VEVENT
BEGIN:VEVENT
DTSTART;TZID=America/Chicago:20181202T150000
DTEND;TZID=America/Chicago:20181202T170000
DTSTAMP:20260423T163850
CREATED:20180716T151454Z
LAST-MODIFIED:20201203T005631Z
UID:281-1543762800-1543770000@butlercountyarts.com
SUMMARY:Christmas in Butler County
DESCRIPTION:Christmas in Butler County: Come hear the sounds of the season with this annual favorite which features the Butler County Community Choir under the direction of Mr. Michael Eldridge and accompanied by Mrs. Carol Fuxa\, professional musicians from the Harris Academy of the Arts and local musicians.  This concert is sure to be a favorite start to your holiday season.  Join us on December 2\, 2018\, at 3:00pm at St. Luke’s United Methodist Church\, 620 D Street\, David City\, NE 68632.
URL:https://butlercountyarts.com/event/christmas-in-butler-county/
LOCATION:St. Luke’s United Methodist Church\, 620 D St.\, David City\, NE\, 68632\, United States
END:VEVENT
BEGIN:VEVENT
DTSTART;TZID=America/Chicago:20181202T123000
DTEND;TZID=America/Chicago:20181202T143000
DTSTAMP:20260423T163850
CREATED:20180716T155939Z
LAST-MODIFIED:20201203T005631Z
UID:309-1543753800-1543761000@butlercountyarts.com
SUMMARY:Community Choir Rehearsal
DESCRIPTION:Dress Rehearsal for Christmas In Butler County @ St. Luke’s United Methodist Church
URL:https://butlercountyarts.com/event/community-choir-rehearsal-8/
LOCATION:St. Luke’s United Methodist Church\, 620 D St.\, David City\, NE\, 68632\, United States
END:VEVENT
BEGIN:VEVENT
DTSTART;TZID=America/Chicago:20181201T100000
DTEND;TZID=America/Chicago:20181201T130000
DTSTAMP:20260423T163850
CREATED:20180716T155608Z
LAST-MODIFIED:20201203T005631Z
UID:307-1543658400-1543669200@butlercountyarts.com
SUMMARY:Community Choir Rehearsal
DESCRIPTION:Dress Rehearsal for Christmas In Butler County @ St.Luke’s United Methodist Church
URL:https://butlercountyarts.com/event/community-choir-rehearsal-7/
LOCATION:St. Luke’s United Methodist Church\, 620 D St.\, David City\, NE\, 68632\, United States
END:VEVENT
BEGIN:VEVENT
DTSTART;TZID=America/Chicago:20181125T183000
DTEND;TZID=America/Chicago:20181125T200000
DTSTAMP:20260423T163850
CREATED:20180716T155359Z
LAST-MODIFIED:20201203T005631Z
UID:305-1543170600-1543176000@butlercountyarts.com
SUMMARY:Community Choir Rehearsal
DESCRIPTION: Community Choir Rehearsals for Christmas In Butler County\, in the little white church at 7th and E Streets\, David City\, NE at 6:30 pm.
URL:https://butlercountyarts.com/event/community-choir-rehearsal-6/
LOCATION:Little White Church\, 7th & E Streets\, David City\, NE\, 68632\, United States
END:VEVENT
BEGIN:VEVENT
DTSTART;TZID=America/Chicago:20181118T183000
DTEND;TZID=America/Chicago:20181118T200000
DTSTAMP:20260423T163850
CREATED:20180716T155307Z
LAST-MODIFIED:20201203T005631Z
UID:303-1542565800-1542571200@butlercountyarts.com
SUMMARY:Community Choir Rehearsal
DESCRIPTION: Community Choir Rehearsals for Christmas In Butler County\, in the little white church at 7th and E Streets\, David City\, NE at 6:30 pm.
URL:https://butlercountyarts.com/event/community-choir-concert/
LOCATION:Little White Church\, 7th & E Streets\, David City\, NE\, 68632\, United States
END:VEVENT
BEGIN:VEVENT
DTSTART;TZID=America/Chicago:20181115T190000
DTEND;TZID=America/Chicago:20181115T220000
DTSTAMP:20260423T163850
CREATED:20180716T151129Z
LAST-MODIFIED:20201203T005631Z
UID:277-1542308400-1542319200@butlercountyarts.com
SUMMARY:Butler County One Act Festival
DESCRIPTION:One Act Festival with all three schools: Thursday\, November 15\, 2018\, 7 pm\, EBHS. East Butler High School is at 212 South Madison St.\, Brainard\, NE 68626.
URL:https://butlercountyarts.com/event/butler-county-one-act-festival/
LOCATION:East Butler High School\, 212 S. Madison Street\, Brainard\, NE\, 68626\, United States
END:VEVENT
BEGIN:VEVENT
DTSTART;TZID=America/Chicago:20181111T183000
DTEND;TZID=America/Chicago:20181111T200000
DTSTAMP:20260423T163850
CREATED:20180716T155223Z
LAST-MODIFIED:20201203T005631Z
UID:301-1541961000-1541966400@butlercountyarts.com
SUMMARY:Community Choir Rehearsal
DESCRIPTION: Community Choir Rehearsals for Christmas In Butler County\, in the little white church at 7th and E Streets\, David City\, NE at 6:30 pm.
URL:https://butlercountyarts.com/event/community-choir-rehearsal-5/
LOCATION:Little White Church\, 7th & E Streets\, David City\, NE\, 68632\, United States
END:VEVENT
BEGIN:VEVENT
DTSTART;TZID=America/Chicago:20181104T183000
DTEND;TZID=America/Chicago:20181104T200000
DTSTAMP:20260423T163850
CREATED:20180716T155110Z
LAST-MODIFIED:20201203T005631Z
UID:299-1541356200-1541361600@butlercountyarts.com
SUMMARY:Community Choir Rehearsal
DESCRIPTION: Community Choir Rehearsals for Christmas In Butler County\, in the little white church at 7th and E Streets\, David City\, NE at 6:30 pm.
URL:https://butlercountyarts.com/event/community-choir-rehearsal-4/
LOCATION:Little White Church\, 7th & E Streets\, David City\, NE\, 68632\, United States
END:VEVENT
BEGIN:VEVENT
DTSTART;TZID=America/Chicago:20181028T183000
DTEND;TZID=America/Chicago:20181028T200000
DTSTAMP:20260423T163850
CREATED:20180716T155015Z
LAST-MODIFIED:20201203T005631Z
UID:296-1540751400-1540756800@butlercountyarts.com
SUMMARY:Community Choir Rehearsal
DESCRIPTION: Community Choir Rehearsals for Christmas In Butler County Concert\, in the little white church at 7th and E Streets\, David City\, NE at 6:30 pm.
URL:https://butlercountyarts.com/event/community-choir-rehearsal-3/
LOCATION:Little White Church\, 7th & E Streets\, David City\, NE\, 68632\, United States
END:VEVENT
BEGIN:VEVENT
DTSTART;TZID=America/Chicago:20181021T183000
DTEND;TZID=America/Chicago:20181021T200000
DTSTAMP:20260423T163850
CREATED:20180716T154938Z
LAST-MODIFIED:20201203T005631Z
UID:294-1540146600-1540152000@butlercountyarts.com
SUMMARY:Community Choir Rehearsal
DESCRIPTION: Community Choir Rehearsals for Christmas In Butler County Concert\, in the little white church at 7th and E Streets\, David City\, NE at 6:30 pm.
URL:https://butlercountyarts.com/event/community-choir-rehearsal-2/
LOCATION:Little White Church\, 7th & E Streets\, David City\, NE\, 68632\, United States
END:VEVENT
BEGIN:VEVENT
DTSTART;TZID=America/Chicago:20181014T183000
DTEND;TZID=America/Chicago:20181014T200000
DTSTAMP:20260423T163850
CREATED:20180716T154847Z
LAST-MODIFIED:20201203T005631Z
UID:292-1539541800-1539547200@butlercountyarts.com
SUMMARY:Community Choir Rehearsal
DESCRIPTION: Community Choir Rehearsals for Christmas In Butler County Concert\, in the little white church at 7th and E Streets\, David City\, NE at 6:30 pm.
URL:https://butlercountyarts.com/event/community-choir-rehearsal/
LOCATION:Little White Church\, 7th & E Streets\, David City\, NE\, 68632\, United States
END:VEVENT
BEGIN:VEVENT
DTSTART;TZID=America/Chicago:20181007T183000
DTEND;TZID=America/Chicago:20181007T200000
DTSTAMP:20260423T163850
CREATED:20180716T151016Z
LAST-MODIFIED:20201203T005631Z
UID:274-1538937000-1538942400@butlercountyarts.com
SUMMARY:Community Choir Rehearsals Begin
DESCRIPTION:Community Choir rehearsals for Christmas in Butler County will begin Sunday\, October 7\, 2018 at the little church at 7th and E Streets\, David City\, NE at 6:30 pm.
URL:https://butlercountyarts.com/event/community-choir-rehearsals-begin/
LOCATION:Little White Church\, 7th & E Streets\, David City\, NE\, 68632\, United States
END:VEVENT
BEGIN:VEVENT
DTSTART;VALUE=DATE:20180909
DTEND;VALUE=DATE:20180910
DTSTAMP:20260423T163850
CREATED:20180716T150807Z
LAST-MODIFIED:20201203T005631Z
UID:269-1536451200-1536537540@butlercountyarts.com
SUMMARY:The Toasted Ponies
DESCRIPTION:The Toasted Ponies Sunday\, September 9\, 2018  3 venues:  \n1:30 pm at David place 260 South 10th Street\, David City;  \n2:45 pm at St. Joseph’s Villa at 927 N. 7th Street\, David City  \n4 pm at the Cornfest celebration for Bone Creek Museum of Agrarian Art in the Butler County Event Center for those with Cornfest tickets.
URL:https://butlercountyarts.com/event/the-toasted-ponies/
LOCATION:United States
END:VEVENT
BEGIN:VEVENT
DTSTART;TZID=America/Chicago:20180818T173000
DTEND;TZID=America/Chicago:20180818T193000
DTSTAMP:20260423T163850
CREATED:20180716T150446Z
LAST-MODIFIED:20201203T005631Z
UID:264-1534613400-1534620600@butlercountyarts.com
SUMMARY:Bill Andel and friends Czech Celebration CZECH BAND
DESCRIPTION:Bill Andel and friends Czech Celebration CZECH BAND August 18 5:30 pm at the David City Auditorium with the usual mix of music and humor. Two nonprofit groups (Catholic Daughters) will offer food and delicious desserts (brownie sundaes) (St. Luke’s United Methodist Women) as fundraisers for their worthy causes.
URL:https://butlercountyarts.com/event/bill-andel-and-friends-czech-celebration-czech-band/
LOCATION:David City Auditorium\, 699 Kansas Street\, David City\, NE\, 68632\, United States
END:VEVENT
END:VCALENDAR