BEGIN:VCALENDAR
VERSION:2.0
PRODID:-//Butler County Arts Council - ECPv6.15.20//NONSGML v1.0//EN
CALSCALE:GREGORIAN
METHOD:PUBLISH
X-WR-CALNAME:Butler County Arts Council
X-ORIGINAL-URL:https://butlercountyarts.com
X-WR-CALDESC:Events for Butler County Arts Council
REFRESH-INTERVAL;VALUE=DURATION:PT1H
X-Robots-Tag:noindex
X-PUBLISHED-TTL:PT1H
BEGIN:VTIMEZONE
TZID:America/Chicago
BEGIN:DAYLIGHT
TZOFFSETFROM:-0600
TZOFFSETTO:-0500
TZNAME:CDT
DTSTART:20160313T080000
END:DAYLIGHT
BEGIN:STANDARD
TZOFFSETFROM:-0500
TZOFFSETTO:-0600
TZNAME:CST
DTSTART:20161106T070000
END:STANDARD
BEGIN:DAYLIGHT
TZOFFSETFROM:-0600
TZOFFSETTO:-0500
TZNAME:CDT
DTSTART:20170312T080000
END:DAYLIGHT
BEGIN:STANDARD
TZOFFSETFROM:-0500
TZOFFSETTO:-0600
TZNAME:CST
DTSTART:20171105T070000
END:STANDARD
BEGIN:DAYLIGHT
TZOFFSETFROM:-0600
TZOFFSETTO:-0500
TZNAME:CDT
DTSTART:20180311T080000
END:DAYLIGHT
BEGIN:STANDARD
TZOFFSETFROM:-0500
TZOFFSETTO:-0600
TZNAME:CST
DTSTART:20181104T070000
END:STANDARD
END:VTIMEZONE
BEGIN:VEVENT
DTSTART;VALUE=DATE:20170727
DTEND;VALUE=DATE:20170728
DTSTAMP:20260425T160423
CREATED:20170523T134354Z
LAST-MODIFIED:20201203T005632Z
UID:95-1501113600-1501199940@butlercountyarts.com
SUMMARY:Art Day Camp
DESCRIPTION:Your choice of up to six 3 hour sessions taught by experienced art teachers in Aquinas art room. Registration & brochure HERE or in the library or museum 575 E St. David City.
URL:https://butlercountyarts.com/event/art-day-camp/
LOCATION:United States
END:VEVENT
BEGIN:VEVENT
DTSTART;TZID=America/Chicago:20170720T080000
DTEND;TZID=America/Chicago:20170723T170000
DTSTAMP:20260425T160423
CREATED:20170523T134045Z
LAST-MODIFIED:20201203T005632Z
UID:92-1500537600-1500829200@butlercountyarts.com
SUMMARY:Butler County Fair SPIN ART
DESCRIPTION:Booth for all ages\, art in photography awards & musical entertainment
URL:https://butlercountyarts.com/event/butler-county-fair-spin-art/
LOCATION:United States
END:VEVENT
BEGIN:VEVENT
DTSTART;TZID=America/Chicago:20170526T101500
DTEND;TZID=America/Chicago:20170526T193000
DTSTAMP:20260425T160423
CREATED:20170516T030143Z
LAST-MODIFIED:20201203T005632Z
UID:83-1495793700-1495827000@butlercountyarts.com
SUMMARY:Youth Theater: Awesome 80s Flashback
DESCRIPTION:$10.00 per person \nDavid City High School\,\nDavid City\, NE \nDownload Brochure
URL:https://butlercountyarts.com/event/youth-theater-awesome-80s-flashback/
LOCATION:United States
END:VEVENT
END:VCALENDAR