BEGIN:VCALENDAR
VERSION:2.0
PRODID:-//Butler County Arts Council - ECPv6.15.20//NONSGML v1.0//EN
CALSCALE:GREGORIAN
METHOD:PUBLISH
X-WR-CALNAME:Butler County Arts Council
X-ORIGINAL-URL:https://butlercountyarts.com
X-WR-CALDESC:Events for Butler County Arts Council
REFRESH-INTERVAL;VALUE=DURATION:PT1H
X-Robots-Tag:noindex
X-PUBLISHED-TTL:PT1H
BEGIN:VTIMEZONE
TZID:America/Chicago
BEGIN:DAYLIGHT
TZOFFSETFROM:-0600
TZOFFSETTO:-0500
TZNAME:CDT
DTSTART:20220313T080000
END:DAYLIGHT
BEGIN:STANDARD
TZOFFSETFROM:-0500
TZOFFSETTO:-0600
TZNAME:CST
DTSTART:20221106T070000
END:STANDARD
BEGIN:DAYLIGHT
TZOFFSETFROM:-0600
TZOFFSETTO:-0500
TZNAME:CDT
DTSTART:20230312T080000
END:DAYLIGHT
BEGIN:STANDARD
TZOFFSETFROM:-0500
TZOFFSETTO:-0600
TZNAME:CST
DTSTART:20231105T070000
END:STANDARD
BEGIN:DAYLIGHT
TZOFFSETFROM:-0600
TZOFFSETTO:-0500
TZNAME:CDT
DTSTART:20240310T080000
END:DAYLIGHT
BEGIN:STANDARD
TZOFFSETFROM:-0500
TZOFFSETTO:-0600
TZNAME:CST
DTSTART:20241103T070000
END:STANDARD
END:VTIMEZONE
BEGIN:VEVENT
DTSTART;TZID=America/Chicago:20231203T150000
DTEND;TZID=America/Chicago:20231203T170000
DTSTAMP:20260425T140715
CREATED:20231120T225408Z
LAST-MODIFIED:20240315T030642Z
UID:904-1701615600-1701622800@butlercountyarts.com
SUMMARY:2023 Free Holiday Concert - A New and Glorious Morn
DESCRIPTION:The Christmas concert will be held Sunday\, December 3\, at 3PM.\nWhat a great opportunity to come together as a county and celebrate the season with music!\nDirector Michael Eldridge will again be assisted by accompanist Carol Fuxa. \n \n 
URL:https://butlercountyarts.com/event/2023-free-holiday-concert-a-new-and-glorious-morn/
LOCATION:St. Luke’s United Methodist Church\, 620 D St\, David City\, NE\, 68632
ATTACH;FMTTYPE=image/jpeg:https://butlercountyarts.com/wordpress/wp-content/uploads/406477503_857909465875150_7064417567791908838_n.jpg
END:VEVENT
END:VCALENDAR